BEGIN:VCALENDAR
PRODID:-//SMW Project//Semantic Result Formats
VERSION:2.0
METHOD:PUBLISH
X-WR-CALNAME:LOMSO
X-WR-CALDESC:
BEGIN:VEVENT
SUMMARY:Weihnachtsgrillen 2004
URL:http://www.lug-ottobrunn.de/wiki/Weihnachtsgrillen_2004
UID:http://www.lug-ottobrunn.de/wiki/Weihnachtsgrillen_2004
DTSTART:20041213T200000
DTEND:20041213T235900
DTSTAMP:20110604T155456
SEQUENCE:834
END:VEVENT
END:VCALENDAR
