BEGIN:VCALENDAR
PRODID:-//SMW Project//Semantic Result Formats
VERSION:2.0
METHOD:PUBLISH
X-WR-CALNAME:LOMSO
X-WR-CALDESC:
BEGIN:VEVENT
SUMMARY:RMLL 2011
URL:http://www.lug-ottobrunn.de/wiki/RMLL_2011
UID:http://www.lug-ottobrunn.de/wiki/RMLL_2011
DTSTART:20110711
DTEND:20110715
LOCATION:Straßburg
DTSTAMP:20110714T163515
SEQUENCE:943
END:VEVENT
END:VCALENDAR
