BEGIN:VCALENDAR
PRODID:-//SMW Project//Semantic Result Formats
VERSION:2.0
METHOD:PUBLISH
X-WR-CALNAME:LOMSO
X-WR-CALDESC:
BEGIN:VEVENT
SUMMARY:Grillfest 2004
URL:http://www.lug-ottobrunn.de/wiki/Grillfest_2004
UID:http://www.lug-ottobrunn.de/wiki/Grillfest_2004
DTSTART:20040426T200000
DTEND:20040426T235900
DTSTAMP:20110604T155428
SEQUENCE:833
END:VEVENT
END:VCALENDAR
