BEGIN:VCALENDAR
PRODID:-//SMW Project//Semantic Result Formats
VERSION:2.0
METHOD:PUBLISH
X-WR-CALNAME:LOMSO
X-WR-CALDESC:
BEGIN:VEVENT
SUMMARY:Bürgernetz 2014
URL:http://www.lug-ottobrunn.de/wiki/B%C3%BCrgernetz_2014
UID:http://www.lug-ottobrunn.de/wiki/B%C3%BCrgernetz_2014
DTSTART:20140701T200000
DTEND:20140811T220000
LOCATION:Neubiberg\, Heimstetten
DTSTAMP:20140916T095843
SEQUENCE:2568
END:VEVENT
END:VCALENDAR
