BEGIN:VCALENDAR
PRODID:-//SMW Project//Semantic Result Formats
VERSION:2.0
METHOD:PUBLISH
X-WR-CALNAME:LOMSO
X-WR-CALDESC:
BEGIN:VEVENT
SUMMARY:71. Treffen
URL:http://www.lug-ottobrunn.de/wiki/71._Treffen
UID:http://www.lug-ottobrunn.de/wiki/71._Treffen
DTSTART:20061120T200000
DTEND:20061120T235900
LOCATION:Tegernseer Alm
DTSTAMP:20110429T170842
SEQUENCE:636
END:VEVENT
END:VCALENDAR
