BEGIN:VCALENDAR
PRODID:-//SMW Project//Semantic Result Formats
VERSION:2.0
METHOD:PUBLISH
X-WR-CALNAME:LOMSO
X-WR-CALDESC:
BEGIN:VEVENT
SUMMARY:52. Treffen
URL:http://www.lug-ottobrunn.de/wiki/52._Treffen
UID:http://www.lug-ottobrunn.de/wiki/52._Treffen
DTSTART:20060213T200000
DTEND:20060213T235900
LOCATION:Tegernseer Alm
DTSTAMP:20110429T194558
SEQUENCE:653
END:VEVENT
END:VCALENDAR
