BEGIN:VCALENDAR
PRODID:-//SMW Project//Semantic Result Formats
VERSION:2.0
METHOD:PUBLISH
X-WR-CALNAME:LOMSO
X-WR-CALDESC:
BEGIN:VEVENT
SUMMARY:48. Treffen
URL:http://www.lug-ottobrunn.de/wiki/48._Treffen
UID:http://www.lug-ottobrunn.de/wiki/48._Treffen
DTSTART:20051121T200000
DTEND:20051121T235900
LOCATION:Adebar
DTSTAMP:20110429T200722
SEQUENCE:658
END:VEVENT
END:VCALENDAR
