BEGIN:VCALENDAR
PRODID:-//SMW Project//Semantic Result Formats
VERSION:2.0
METHOD:PUBLISH
X-WR-CALNAME:LOMSO
X-WR-CALDESC:
BEGIN:VEVENT
SUMMARY:447. Treffen
URL:http://www.lug-ottobrunn.de/wiki/447._Treffen
UID:http://www.lug-ottobrunn.de/wiki/447._Treffen
DTSTART:20240701T200000
DTEND:20240701T235900
LOCATION:Videokonferenz mit Jitsi
DTSTAMP:20231230T175436
SEQUENCE:3699
END:VEVENT
END:VCALENDAR
