BEGIN:VCALENDAR
PRODID:-//SMW Project//Semantic Result Formats
VERSION:2.0
METHOD:PUBLISH
X-WR-CALNAME:LOMSO
X-WR-CALDESC:
BEGIN:VEVENT
SUMMARY:43. Treffen
URL:http://www.lug-ottobrunn.de/wiki/43._Treffen
UID:http://www.lug-ottobrunn.de/wiki/43._Treffen
DTSTART:20051017T200000
DTEND:20051017T235900
LOCATION:Adebar
DTSTAMP:20110429T203525
SEQUENCE:663
END:VEVENT
END:VCALENDAR
