BEGIN:VCALENDAR
PRODID:-//SMW Project//Semantic Result Formats
VERSION:2.0
METHOD:PUBLISH
X-WR-CALNAME:LOMSO
X-WR-CALDESC:
BEGIN:VEVENT
SUMMARY:42. Treffen
URL:http://www.lug-ottobrunn.de/wiki/42._Treffen
UID:http://www.lug-ottobrunn.de/wiki/42._Treffen
DTSTART:20051010T200000
DTEND:20051010T235900
LOCATION:Nimrods
DTSTAMP:20110604T144914
SEQUENCE:813
END:VEVENT
END:VCALENDAR
