BEGIN:VCALENDAR
PRODID:-//SMW Project//Semantic Result Formats
VERSION:2.0
METHOD:PUBLISH
X-WR-CALNAME:LOMSO
X-WR-CALDESC:
BEGIN:VEVENT
SUMMARY:399.43. Treffen
URL:http://www.lug-ottobrunn.de/wiki/399.43._Treffen
UID:http://www.lug-ottobrunn.de/wiki/399.43._Treffen
DTSTART:20211110T200000
DTEND:20211110T235900
LOCATION:Videokonferenz mit Jitsi
DTSTAMP:20201116T230133
SEQUENCE:3513
END:VEVENT
END:VCALENDAR
