BEGIN:VCALENDAR
PRODID:-//SMW Project//Semantic Result Formats
VERSION:2.0
METHOD:PUBLISH
X-WR-CALNAME:LOMSO
X-WR-CALDESC:
BEGIN:VEVENT
SUMMARY:37. Treffen
URL:http://www.lug-ottobrunn.de/wiki/37._Treffen
UID:http://www.lug-ottobrunn.de/wiki/37._Treffen
DTSTART:20050808T200000
DTEND:20050808T235900
DTSTAMP:20110604T145019
SEQUENCE:815
END:VEVENT
END:VCALENDAR
