BEGIN:VCALENDAR
PRODID:-//SMW Project//Semantic Result Formats
VERSION:2.0
METHOD:PUBLISH
X-WR-CALNAME:LOMSO
X-WR-CALDESC:
BEGIN:VEVENT
SUMMARY:343. Treffen
URL:http://www.lug-ottobrunn.de/wiki/343._Treffen
UID:http://www.lug-ottobrunn.de/wiki/343._Treffen
DTSTART:20171129T200000
DTEND:20171129T235900
LOCATION:Tegernseer Alm
DTSTAMP:20161212T184603
SEQUENCE:2883
END:VEVENT
END:VCALENDAR
