BEGIN:VCALENDAR
PRODID:-//SMW Project//Semantic Result Formats
VERSION:2.0
METHOD:PUBLISH
X-WR-CALNAME:LOMSO
X-WR-CALDESC:
BEGIN:VEVENT
SUMMARY:188. Treffen
URL:http://www.lug-ottobrunn.de/wiki/188._Treffen
UID:http://www.lug-ottobrunn.de/wiki/188._Treffen
DTSTART:20110822T200000
DTEND:20110822T235900
LOCATION:Tegernseer Alm
DTSTAMP:20110821T200716
SEQUENCE:956
END:VEVENT
END:VCALENDAR
