BEGIN:VCALENDAR
PRODID:-//SMW Project//Semantic Result Formats
VERSION:2.0
METHOD:PUBLISH
X-WR-CALNAME:LOMSO
X-WR-CALDESC:
BEGIN:VEVENT
SUMMARY:185. Treffen
URL:http://www.lug-ottobrunn.de/wiki/185._Treffen
UID:http://www.lug-ottobrunn.de/wiki/185._Treffen
DTSTART:20110713T200000
DTEND:20110713T235900
LOCATION:Tegernseer Alm
DTSTAMP:20110718T163819
SEQUENCE:945
END:VEVENT
END:VCALENDAR
