BEGIN:VCALENDAR
PRODID:-//SMW Project//Semantic Result Formats
VERSION:2.0
METHOD:PUBLISH
X-WR-CALNAME:LOMSO
X-WR-CALDESC:
BEGIN:VEVENT
SUMMARY:177. Treffen
URL:http://www.lug-ottobrunn.de/wiki/177._Treffen
UID:http://www.lug-ottobrunn.de/wiki/177._Treffen
DTSTART:20110323T200000
DTEND:20110323T235900
LOCATION:Tegernseer Alm
DTSTAMP:20110331T214548
SEQUENCE:518
END:VEVENT
END:VCALENDAR
