BEGIN:VCALENDAR
PRODID:-//SMW Project//Semantic Result Formats
VERSION:2.0
METHOD:PUBLISH
X-WR-CALNAME:LOMSO
X-WR-CALDESC:
BEGIN:VEVENT
SUMMARY:176. Treffen
URL:http://www.lug-ottobrunn.de/wiki/176._Treffen
UID:http://www.lug-ottobrunn.de/wiki/176._Treffen
DTSTART:20110307T200000
DTEND:20110307T235900
LOCATION:Tegernseer Alm
DTSTAMP:20110306T172433
SEQUENCE:277
END:VEVENT
END:VCALENDAR
